{"text_format":"2","workbook":"xlsx","n_sheets":3,"sheets":["Einzelunternehmer_Einzelgmbh","GmbH","Daten"],"not_rendered":{"charts":0,"images":0,"macros":0,"external_links":0,"defined_names":1,"comments":3,"pivot_tables":0},"unopened":[],"bounds":{"document_bytes":16777216,"sheet_cells":100000,"run_cost":"one","rows_first":2000,"rows_last":500,"rows_between":2000,"halvings":0,"cell_chars":16384,"cell_head_chars":4096},"cells_cut":0,"cells_raw":0,"read":"whole","date_system":"1900"}

{"sheet":"Einzelunternehmer_Einzelgmbh","index":0,"n_rows":29,"n_cols":3,"rows_kept":29,"cut":false,"hidden":false,"merged":[]}
["Tagessatzberechnung Einzelunternehmer","Beispielrechnung Einzelunternehmer","eigene Berechnung Einzelunternehmer"]
[]
["laufende Betriebskosten pro Jahr"]
["Büromiete",12000,12000]
["Telefon, Internet",250,250]
["Büroausstattung (jährlich)",500,500]
["Akquisition",3000,3000]
["Werbematerial",200,200]
["Weiterbildungskosten",1000,1000]
["Sozialversicherung/ Verdienstausfall",12000,12000]
["Versicherungen",0,0]
["Steuerberatung",6000,6000]
["Administration ohne Verdienstausfall",3000,3000]
["Marketingkosten ",3000,3000]
["Mobilitätskosten ",5000,5000]
["Reisenebenkosten ",1000,1000]
["Summe laufende Betriebskosten pro Jahr",{"$f":"SUM(B4:B16)","v":46950},{"$f":"SUM(C4:C16)","v":46950}]
[]
["Grundannahmen pro Jahr","Beispielrechnung Einzelunternehmer2","eigene Berechnung Einzelunternehmer"]
["eigene Rücklagen",{"$f":"Daten!$B$2","v":-300000},{"$f":"Daten!$C$2","v":-300000}]
["monatliche Zielrente Netto",{"$f":"Daten!$B$3","v":2500},{"$f":"Daten!$C$3","v":2500}]
["notwendige Rücklagen für Rente Netto",{"$f":"B21*12*Daten!$B$10","v":900000},{"$f":"C21*12*Daten!$C$10","v":900000}]
["notwendige Rücklagen für Rente Brutto",{"$f":"B22*1/(100%-Daten!$B$5)","v":1200000},{"$f":"C22*1/(100%-Daten!$C$5)","v":1200000}]
["Jahreszieleinkommen Netto",{"$f":"Daten!$B$4","v":100000},{"$f":"Daten!$C$4","v":100000}]
["Jahreszieleinkommen Brutto",{"$f":"B24*1/(100%-Daten!$B$6)","v":142857.14285714287},{"$f":"C24*1/(100%-Daten!$C$6)","v":142857.14285714287}]
["Zuzüglich laufende jährliche Betriebskosten netto",{"$f":"B17","v":46950},{"$f":"C17","v":46950}]
["zu erwirtschaftender Umsatz Brutto/ Jahr",{"$f":"B25+B26","v":189807.14285714287},{"$f":"C25+C26","v":189807.14285714287}]
["zu erwirtschaftender Umsatz Brutto Arbeitsleben",{"$f":"B20+B23+B27*Daten!$B$9","v":5645178.5714285718},{"$f":"C20+C23+C27*Daten!$C$9","v":5645178.5714285718}]
["Tagessatz Brutto",{"$f":"B28/Daten!$B$8/(Daten!$B$11*Daten!$B$12)","v":2822.5892857142858},{"$f":"C28/Daten!$B$8/(Daten!$B$11*Daten!$B$12)","v":2822.5892857142858}]

{"sheet":"GmbH","index":1,"n_rows":28,"n_cols":3,"rows_kept":28,"cut":false,"hidden":false,"merged":[]}
["Beispielrechnung GmbH","Beispielrechnung","eigene Rechnung"]
["GmbH","Nullsumme"]
[]
["laufende Betriebskosten pro Jahr"]
["Büromiete",40000,40000]
["Telefon, Internet",{"$f":"12*200","v":2400},{"$f":"12*200","v":2400}]
["Büroausstattung (jährlich)",5000,5000]
["Akquisition",10000,10000]
["Werbematerial",10000,10000]
["Weiterbildungskosten ohne Verdienstausfall",{"$f":"Daten!$B$15*4000","v":40000},{"$f":"Daten!$B$15*4000","v":40000}]
["Versicherungen",2000,2000]
["Steuerberatung",10000,10000]
["Marketingkosten ",10000,10000]
["Mobilitätskosten ",30000,30000]
["Reisenebenkosten ",15000,15000]
["Summe laufende Betriebskosten pro Jahr",{"$f":"SUM(B5:B15)","v":174400},{"$f":"SUM(C5:C15)","v":174400}]
[]
["Grundannahmen pro Jahr","Beispielrechnung","eigene Rechnung"]
["Personalkosten nicht fakturierbare Mitarbeiter",{"$f":"Daten!$B$23","v":80000},{"$f":"Daten!$C$23","v":80000}]
["Personalkosten fakturierbare Mitarbeiter",{"$f":"Daten!$B$21","v":500000},{"$f":"Daten!$C$21","v":500000}]
["Personalnebenkosten",{"$f":"(Daten!$B$23+Daten!$B$21)*Daten!$B$26","v":279270},{"$f":"(Daten!$C$23+Daten!$C21)*Daten!$C$26","v":279270}]
["laufende Betriebskosten pro Jahr",{"$f":"B16","v":174400},{"$f":"C16","v":174400}]
["Insolvenzgeldumlage",{"$f":"Daten!$B$24*(Daten!$B$21+Daten!$B$23)","v":695.99999999999989},{"$f":"Daten!$C$24*(Daten!$C$21+Daten!$C$23)","v":695.99999999999989}]
["zu erwirtschaftender Unsatz netto",{"$f":"SUM(B19:B23)","v":1034366},{"$f":"SUM(C19:C23)","v":1034366}]
["zu erwirtschaftender Umsatz Brutto pro Jahr",{"$f":"B24*1/(100%-Daten!$B$30)","v":1477665.7142857143},{"$f":"C24*1/(100%-Daten!$C$30)","v":1477665.7142857143}]
["zu erwirtschaftender Umsatz Brutto in 10 Jahren",{"$f":"B25*10","v":14776657.142857144},{"$f":"C25*10","v":14776657.142857144}]
["zu erwirtschaftender Umsatz Brutto in 8 Jahren für 10 Jahre",{"$f":"B26/8*10","v":18470821.428571429},{"$f":"C26/8*10","v":18470821.428571429}]
["durchschnittlicher Tagessatz",{"$f":"B27/8/Daten!$B$19*Daten!B20","v":1443.0329241071429},{"$f":"C27/8/Daten!$C$19*Daten!$C$20","v":1443.0329241071429}]

{"sheet":"Daten","index":2,"n_rows":30,"n_cols":3,"rows_kept":30,"cut":false,"hidden":false,"merged":[]}
["Einzelunternehmer","Beispielrechnung"]
["eigene Rücklagen",-300000,-300000]
["monatliche Zielrente Netto",2500,2500]
["Jahreszieleinkommen",100000,100000]
["durchschittlicher Steuersatz Rente",0.25,0.25]
["durchschittlicher Steuersatz Einkommen",0.3,0.3]
["Gewerbesteuer",0.3,0.3]
["Anzahl Berufsjahre bis zur Rente Netto",20,20]
["Anzahl Arbeitsjahre bis zur Rente (8 von 10)",{"$f":"B8/80%","v":25},{"$f":"C8/80%","v":25}]
["Lebenserwartung nach Renteneintritt",30,30]
["Anzahl möglicher Arbeitstage pro Jahr",200,200]
["fakturierbarer Anteil (200*x%)/ Person",0.5,0.5]
[]
["GmbH"]
["Anzahl Mitarbeiter",10,10]
["Fakturierbare Mitarbeiter"]
["Anzahl Mitarbeiter",8,8]
["Anzahl möglicher Arbeitstage pro Jahr",200,200]
["Anzahl fakturierbare Tage (200*x%)/ Person",{"$f":"B18*B17*B20","v":1120},{"$f":"C18*C17*C20","v":1120}]
["fakturierbarer Anteil (200*x%)/ Person",0.7,0.7]
["Personalkosten ",500000,500000]
["Nichtfakturierbare Mitarbeiter"]
["Personalkosten ",80000,80000]
["Insolvenzgeldumlage",1.1999999999999999E-3,1.1999999999999999E-3]
[]
["Personalnebenkosten",{"$f":"SUM(B27:B30)","v":0.48149999999999998},{"$f":"SUM(C27:C30)","v":0.48149999999999998}]
["KV",7.2999999999999995E-2,7.2999999999999995E-2]
["RV",9.35E-2,9.35E-2]
["AL",1.4999999999999999E-2,1.4999999999999999E-2]
["Gewerbesteuersatz",0.3,0.3]